BEGIN:VCALENDAR
VERSION:2.0
PRODID:-// eRoom plugin //NONSGML v1.0//EN
CALSCALE:GREGORIAN
BEGIN:VEVENT
UID:eRoom-1776977205
SUMMARY:Expert Live class
LOCATION:Zoom
DESCRIPTION:Expert Live class is inviting you to a scheduled Zoom meeting.
 \n\nJoin Zoom Meeting\nhttps://us02web.zoom.us/j/84763695074?pwd=OXJDN2hSU
 DdhYjZuZHlHRldEbFJvUT09\n\nMeeting ID: 84763695074\nPasscode: 598292\n
URL;VALUE=URI:https://us02web.zoom.us/j/84763695074?pwd=OXJDN2hSUDdhYjZuZHlHRldEbFJvUT09
DTSTART:20221104T140000Z
DTEND:20221104T160000Z
DTSTAMP:20260423T204645Z
BEGIN:VALARM
ACTION:DISPLAY
DESCRIPTION:Reminder
TRIGGER;RELATED=START:-PT15M
END:VALARM
END:VEVENT
END:VCALENDAR